BEGIN:VCALENDAR
VERSION:2.0
PRODID:-//Northwest Piedmont Intergroup - ECPv6.15.13.1//NONSGML v1.0//EN
CALSCALE:GREGORIAN
METHOD:PUBLISH
X-WR-CALNAME:Northwest Piedmont Intergroup
X-ORIGINAL-URL:https://nwpi.net
X-WR-CALDESC:Events for Northwest Piedmont Intergroup
REFRESH-INTERVAL;VALUE=DURATION:PT1H
X-Robots-Tag:noindex
X-PUBLISHED-TTL:PT1H
BEGIN:VTIMEZONE
TZID:America/New_York
BEGIN:DAYLIGHT
TZOFFSETFROM:-0500
TZOFFSETTO:-0400
TZNAME:EDT
DTSTART:20250309T070000
END:DAYLIGHT
BEGIN:STANDARD
TZOFFSETFROM:-0400
TZOFFSETTO:-0500
TZNAME:EST
DTSTART:20251102T060000
END:STANDARD
BEGIN:DAYLIGHT
TZOFFSETFROM:-0500
TZOFFSETTO:-0400
TZNAME:EDT
DTSTART:20260308T070000
END:DAYLIGHT
BEGIN:STANDARD
TZOFFSETFROM:-0400
TZOFFSETTO:-0500
TZNAME:EST
DTSTART:20261101T060000
END:STANDARD
BEGIN:DAYLIGHT
TZOFFSETFROM:-0500
TZOFFSETTO:-0400
TZNAME:EDT
DTSTART:20270314T070000
END:DAYLIGHT
BEGIN:STANDARD
TZOFFSETFROM:-0400
TZOFFSETTO:-0500
TZNAME:EST
DTSTART:20271107T060000
END:STANDARD
END:VTIMEZONE
BEGIN:VEVENT
DTSTART;TZID=America/New_York:20260419T150000
DTEND;TZID=America/New_York:20260419T170000
DTSTAMP:20260421T072805
CREATED:20260303T170034Z
LAST-MODIFIED:20260303T170034Z
UID:10000151-1776610800-1776618000@nwpi.net
SUMMARY:Area 51 Accessibility Workshop Series Episode 6
DESCRIPTION:Area 51 Accessibility Workshop Series Episode 6\nNavigating Sobriety with Chronic Pain and\nMaintaining My Recovery During a Sudden\nOnset Disability\nApril 19th from 3-5pm\nOnline Meeting\nMeeting ID: 889 3098 7034\nPasscode: 434408\nThere will be a waiting room.\nThe host will let you in.
URL:https://nwpi.net/event/area-51-accessibility-workshop-series-episode-6
LOCATION:NC
ATTACH;FMTTYPE=application/pdf:https://nwpi.net/wp-content/uploads/2026/03/Area-51-Accessibilities-Episode-6.pdf
END:VEVENT
END:VCALENDAR