BEGIN:VCALENDAR
VERSION:2.0
PRODID:-//Northwest Piedmont Intergroup - ECPv6.15.13.1//NONSGML v1.0//EN
CALSCALE:GREGORIAN
METHOD:PUBLISH
X-WR-CALNAME:Northwest Piedmont Intergroup
X-ORIGINAL-URL:https://nwpi.net
X-WR-CALDESC:Events for Northwest Piedmont Intergroup
REFRESH-INTERVAL;VALUE=DURATION:PT1H
X-Robots-Tag:noindex
X-PUBLISHED-TTL:PT1H
BEGIN:VTIMEZONE
TZID:America/New_York
BEGIN:DAYLIGHT
TZOFFSETFROM:-0500
TZOFFSETTO:-0400
TZNAME:EDT
DTSTART:20250309T070000
END:DAYLIGHT
BEGIN:STANDARD
TZOFFSETFROM:-0400
TZOFFSETTO:-0500
TZNAME:EST
DTSTART:20251102T060000
END:STANDARD
BEGIN:DAYLIGHT
TZOFFSETFROM:-0500
TZOFFSETTO:-0400
TZNAME:EDT
DTSTART:20260308T070000
END:DAYLIGHT
BEGIN:STANDARD
TZOFFSETFROM:-0400
TZOFFSETTO:-0500
TZNAME:EST
DTSTART:20261101T060000
END:STANDARD
BEGIN:DAYLIGHT
TZOFFSETFROM:-0500
TZOFFSETTO:-0400
TZNAME:EDT
DTSTART:20270314T070000
END:DAYLIGHT
BEGIN:STANDARD
TZOFFSETFROM:-0400
TZOFFSETTO:-0500
TZNAME:EST
DTSTART:20271107T060000
END:STANDARD
END:VTIMEZONE
BEGIN:VEVENT
DTSTART;VALUE=DATE:20260320
DTEND;VALUE=DATE:20260322
DTSTAMP:20260421T073705
CREATED:20251119T185940Z
LAST-MODIFIED:20251119T185940Z
UID:10000139-1773964800-1774137599@nwpi.net
SUMMARY:37th Annual "FREEDOM FROM BONDAGE"
DESCRIPTION:37th Annual “FREEDOM FROM BONDAGE”\nArea 51 A.A.Corrections Conference \nMarch 20\, 21\, 22\, 2026 \nHampton Inn & Suites\n200 Columbus Drive\nAberdeen\, NC 28315 \nConference Registration Fee: $25 \nHotel Room Rates:\nStandard Room: $142.00\, Suite $162.00 \n\nInspiring Speakers\nInformative Panels\nAA Correctional Archives\nArea 51 Coordinator Displays\nFellowship & Ice Cream\nAll You Can Drink Coffee!\nRegistration opens at 2:00 pm on Friday\nCall Hotel: 910-693-4330\n\nGroup Discount Code: CHHFFB \nReserve by February 20 to get Group Rate \nFor more information:\nEmail: corrections@aanorthcarolina.org\nCall: (919) 418-9900
URL:https://nwpi.net/event/37th-annual-freedom-from-bondage
LOCATION:Hampton Inn & Suites\, 200 Columbus Drive\, Aberdeen\, 28315\, United States
ATTACH;FMTTYPE=image/jpeg:https://nwpi.net/wp-content/uploads/2025/11/FFB37.jpg
END:VEVENT
BEGIN:VEVENT
DTSTART;TZID=America/New_York:20260328T110000
DTEND;TZID=America/New_York:20260328T140000
DTSTAMP:20260421T073705
CREATED:20260305T115149Z
LAST-MODIFIED:20260305T115149Z
UID:10000152-1774695600-1774706400@nwpi.net
SUMMARY:Intergroup Open House & Grape-A-Thon
DESCRIPTION:Intergroup Open House & Grape-A-Thon\nSaturday March 28th 11am-2pm\nNWPI Intergroup Office\n200 Northgate Drive\nWinston-Salem\, NC  27106 \n 
URL:https://nwpi.net/event/intergroup-open-house-grape-a-thon
LOCATION:Intergroup Office\, 208 Northgate Park Drive\, Winston Salem\, NC\, 27106\, United States
ATTACH;FMTTYPE=image/png:https://nwpi.net/wp-content/uploads/2026/03/🌿-__Intergroup-Open-House-Grape-A-Thon-🍇__-🌿-Join-us-at-your-NWPI-office-to-discover-everything-Grapevine-has-to-offer.png
END:VEVENT
BEGIN:VEVENT
DTSTART;TZID=America/New_York:20260328T153000
DTEND;TZID=America/New_York:20260328T173000
DTSTAMP:20260421T073705
CREATED:20260131T212507Z
LAST-MODIFIED:20260131T212507Z
UID:10000150-1774711800-1774719000@nwpi.net
SUMMARY:TRADITIONS WORKSHOP TRADITIONS 1\,2 AND 3
DESCRIPTION:TRADITIONS WORKSHOP TRADITIONS 1\,2 AND 3\nMEETING ID:  842 3739 4622\nPASSCODE: District18\nDATE AND TIME: 3-28-26  3:30PM TO 5:30PM\nLOCATION: 200 Northgate Park Drive\nWinston-Salem\, NC 27106\nBOTH IN-PERSON AND ZOOM
URL:https://nwpi.net/event/traditions-workshop-traditions-12-and-3
LOCATION:Intergroup Office\, 208 Northgate Park Drive\, Winston Salem\, NC\, 27106\, United States
ATTACH;FMTTYPE=application/pdf:https://nwpi.net/wp-content/uploads/2026/01/Traditions-Workshop-Flyer-1-31-26.pdf
END:VEVENT
END:VCALENDAR