BEGIN:VCALENDAR
VERSION:2.0
PRODID:-//Northwest Piedmont Intergroup - ECPv6.15.13.1//NONSGML v1.0//EN
CALSCALE:GREGORIAN
METHOD:PUBLISH
X-WR-CALNAME:Northwest Piedmont Intergroup
X-ORIGINAL-URL:https://nwpi.net
X-WR-CALDESC:Events for Northwest Piedmont Intergroup
REFRESH-INTERVAL;VALUE=DURATION:PT1H
X-Robots-Tag:noindex
X-PUBLISHED-TTL:PT1H
BEGIN:VTIMEZONE
TZID:America/New_York
BEGIN:DAYLIGHT
TZOFFSETFROM:-0500
TZOFFSETTO:-0400
TZNAME:EDT
DTSTART:20250309T070000
END:DAYLIGHT
BEGIN:STANDARD
TZOFFSETFROM:-0400
TZOFFSETTO:-0500
TZNAME:EST
DTSTART:20251102T060000
END:STANDARD
BEGIN:DAYLIGHT
TZOFFSETFROM:-0500
TZOFFSETTO:-0400
TZNAME:EDT
DTSTART:20260308T070000
END:DAYLIGHT
BEGIN:STANDARD
TZOFFSETFROM:-0400
TZOFFSETTO:-0500
TZNAME:EST
DTSTART:20261101T060000
END:STANDARD
BEGIN:DAYLIGHT
TZOFFSETFROM:-0500
TZOFFSETTO:-0400
TZNAME:EDT
DTSTART:20270314T070000
END:DAYLIGHT
BEGIN:STANDARD
TZOFFSETFROM:-0400
TZOFFSETTO:-0500
TZNAME:EST
DTSTART:20271107T060000
END:STANDARD
END:VTIMEZONE
BEGIN:VEVENT
DTSTART;TZID=America/New_York:20260207T100000
DTEND;TZID=America/New_York:20260207T160000
DTSTAMP:20260420T063203
CREATED:20251119T185509Z
LAST-MODIFIED:20251119T185509Z
UID:10000138-1770458400-1770480000@nwpi.net
SUMMARY:Spring Into Action Conference
DESCRIPTION:NINTH ANNUAL • Spring Into Action Conference \nFEBRUARY 7\, 2026  \n10:00AM–4:00PM  \nNew Hope Baptist Church 3007 Beechtree Dr. Sanford\, NC 27330 \n10:00-11:00 A Vision for You – Yesterday and Today (Steve M. Raleigh NC)  \n11:00-11:30 Break \n11:30-12:30 Practice These Principles – Everywhere (Graham R. Virgina Beach VA)  \n12:30-1:30 Lunch – Food Trucks (accepts cash & card) \n1:30-2:30 Carry This Message – We Can Help Others (Debbie A. Wilmington NC)  \n2:30-3:00 Break \n3:00-4:00 Spiritual Entity – The Home Group (Tony D. Angier NC)  \n5:00 – Dinner @ Yarboroughs 132 McIver St Sanford \n* Purpose of the conference is to become more effective at living and carrying the simple AA message. \n* Free event! We will pass a basket to practice the 7th tradition. \n* All are encouraged to bring snacks to share with the group.
URL:https://nwpi.net/event/spring-into-action-conference
LOCATION:New Hope Baptist Church\, 3007 Beechtree Dr.\, Sanford\, 27330\, United States
ATTACH;FMTTYPE=application/pdf:https://nwpi.net/wp-content/uploads/2025/11/Spring-Into-Action-Conference-2026-flyer-1.pdf
END:VEVENT
END:VCALENDAR